BEGIN:VCALENDAR
VERSION:2.0
PRODID:icalendar-ruby
CALSCALE:GREGORIAN
BEGIN:VEVENT
DTSTAMP:20260422T092204Z
UID:928a2349-d844-4218-8802-26bd5a8aeb2d
DTSTART;VALUE=DATE:20240802
DESCRIPTION:Property ID# 577801\, Locatoin: 57 Vivian Street\, Te Aro\, Wel
 lington\, Time: 12:00PM
SUMMARY:Auction for 
END:VEVENT
END:VCALENDAR
