BEGIN:VCALENDAR
VERSION:2.0
PRODID:icalendar-ruby
CALSCALE:GREGORIAN
BEGIN:VEVENT
DTSTAMP:20260419T202448Z
UID:9496201b-9189-4f03-9e59-5fb1f11387f1
DTSTART;VALUE=DATE:20220414
DESCRIPTION:Property ID# 533230\, Locatoin: 9-11 Kings Cres\, Lower Hutt\, 
 Time: 3:00PM
SUMMARY:Auction for 
END:VEVENT
END:VCALENDAR
