BEGIN:VCALENDAR
VERSION:2.0
PRODID:icalendar-ruby
CALSCALE:GREGORIAN
BEGIN:VEVENT
DTSTAMP:20260423T205124Z
UID:a6cab06b-5770-407b-a825-05ee739e5cd8
DTSTART;VALUE=DATE:20211130
DESCRIPTION:Property ID# 522235\, Locatoin: Ray White\, Level 1\, 9-11 King
 s Cres\, Lower Hutt\, Time: 3:00PM
SUMMARY:Auction for 
END:VEVENT
END:VCALENDAR
