BEGIN:VCALENDAR
VERSION:2.0
PRODID:icalendar-ruby
CALSCALE:GREGORIAN
BEGIN:VEVENT
DTSTAMP:20260423T205030Z
UID:3613dffd-97c8-449d-837c-b7d2d0a6ec3a
DTSTART;VALUE=DATE:20211014
DESCRIPTION:Property ID# 517784\, Locatoin: Ray White\, Level 1\, 9-11 King
 s Cres\, Lower Hutt\, Time: 1:00PM
SUMMARY:Auction for 
END:VEVENT
END:VCALENDAR
