BEGIN:VCALENDAR
VERSION:2.0
PRODID:icalendar-ruby
CALSCALE:GREGORIAN
BEGIN:VEVENT
DTSTAMP:20260419T202315Z
UID:6b83480d-8994-4484-96e9-f1ace880e2ca
DTSTART;VALUE=DATE:20210727
DESCRIPTION:Property ID# 513665\, Locatoin: 9-11 Kings Cres\, Lower Hutt\, 
 Time: 1:00PM
SUMMARY:Auction for 
END:VEVENT
END:VCALENDAR
