BEGIN:VCALENDAR
VERSION:2.0
PRODID:icalendar-ruby
CALSCALE:GREGORIAN
BEGIN:VEVENT
DTSTAMP:20260423T204954Z
UID:5d9cda63-6c69-421e-a800-a6736c1545d3
DTSTART;VALUE=DATE:20210422
DESCRIPTION:Property ID# 507033\, Locatoin: Ray White Lower Hutt\, 9-11 Kin
 gs Cres\, Time: 3:00PM
SUMMARY:Auction for 
END:VEVENT
END:VCALENDAR
