BEGIN:VCALENDAR
VERSION:2.0
PRODID:icalendar-ruby
CALSCALE:GREGORIAN
BEGIN:VEVENT
DTSTAMP:20260423T205330Z
UID:5965a1e8-c400-4f94-88bc-9502fc14a50d
DTSTART;VALUE=DATE:20210421
DESCRIPTION:Property ID# 506674\, Locatoin: Ray White\, Lower Hutt\, Time: 
 3:00PM
SUMMARY:Auction for 
END:VEVENT
END:VCALENDAR
