BEGIN:VCALENDAR
VERSION:2.0
PRODID:icalendar-ruby
CALSCALE:GREGORIAN
BEGIN:VEVENT
DTSTAMP:20260423T205556Z
UID:25debff9-97fc-47c7-b755-efeb8bbc76db
DTSTART;VALUE=DATE:20201120
DESCRIPTION:Property ID# 494905\, Locatoin: Raywhite\, Lower Hutt\, Time: 2
 :00PM
SUMMARY:Auction for 
END:VEVENT
END:VCALENDAR
