BEGIN:VCALENDAR
VERSION:2.0
PRODID:icalendar-ruby
CALSCALE:GREGORIAN
BEGIN:VEVENT
DTSTAMP:20260423T205227Z
UID:ade8a4a3-3a9c-437c-972e-f101780c17d2
DTSTART;VALUE=DATE:20201104
DESCRIPTION:Property ID# 492901\, Locatoin: Ray White Lower Hutt\, 9-11 Kin
 gs Crescent\, Time: 2:00PM
SUMMARY:Auction for 
END:VEVENT
END:VCALENDAR
