BEGIN:VCALENDAR
VERSION:2.0
PRODID:icalendar-ruby
CALSCALE:GREGORIAN
BEGIN:VEVENT
DTSTAMP:20260419T201357Z
UID:367b7d27-fa46-4732-88aa-0a0c0a61a68a
DTSTART;VALUE=DATE:20201014
DESCRIPTION:Property ID# 491416\, Locatoin: 9-11 Kings Crescent\, Lower Hut
 t\, Time: 12:00PM
SUMMARY:Auction for 
END:VEVENT
END:VCALENDAR
