BEGIN:VCALENDAR
VERSION:2.0
PRODID:icalendar-ruby
CALSCALE:GREGORIAN
BEGIN:VEVENT
DTSTAMP:20260423T204828Z
UID:4a03c0e3-ff71-4a2c-b8ac-069bdc50f3d8
DTSTART;VALUE=DATE:20200902
DESCRIPTION:Property ID# 487798\, Locatoin: Raywhite\, Lower Hutt\, Time: 2
 :00PM
SUMMARY:Auction for 
END:VEVENT
END:VCALENDAR
