BEGIN:VCALENDAR
VERSION:2.0
PRODID:icalendar-ruby
CALSCALE:GREGORIAN
BEGIN:VEVENT
DTSTAMP:20260423T164209Z
UID:49afd622-4eaf-4ee8-b15d-4b6e6ffd1fa5
DTSTART;VALUE=DATE:20200311
DESCRIPTION:Property ID# 473302\, Time: 4:00PM
SUMMARY:Auction for 
END:VEVENT
END:VCALENDAR
