BEGIN:VCALENDAR
VERSION:2.0
PRODID:icalendar-ruby
CALSCALE:GREGORIAN
BEGIN:VEVENT
DTSTAMP:20260423T205331Z
UID:55cfad1e-d5e7-4eb8-a0a8-78f0d2d8d92e
DTSTART;VALUE=DATE:20200211
DESCRIPTION:Property ID# 471289\, Locatoin: Ray White\, 9-11 Kings Crescent
 \, Lower Hutt\, Time: 2:00PM
SUMMARY:Auction for 
END:VEVENT
END:VCALENDAR
