BEGIN:VCALENDAR
VERSION:2.0
PRODID:icalendar-ruby
CALSCALE:GREGORIAN
BEGIN:VEVENT
DTSTAMP:20260423T205743Z
UID:9cea008a-4bbb-4000-bf31-dc80d8a382a0
DTSTART;VALUE=DATE:20200204
DESCRIPTION:Property ID# 470494\, Locatoin: Ray White\, 9-11 Kings Crescent
 \, Lower Hutt\, Time: 1:00PM
SUMMARY:Auction for 
END:VEVENT
END:VCALENDAR
