BEGIN:VCALENDAR
VERSION:2.0
PRODID:icalendar-ruby
CALSCALE:GREGORIAN
BEGIN:VEVENT
DTSTAMP:20260419T201742Z
UID:963bfe07-18a6-46ae-8935-2f5a1c7c2a92
DTSTART;VALUE=DATE:20191001
DESCRIPTION:Property ID# 461751\, Locatoin: 9-11 Kings Crescent\, Lower Hut
 t\, Time: 4:00PM
SUMMARY:Auction for 
END:VEVENT
END:VCALENDAR
